BEGIN:VCALENDAR
VERSION:2.0
PRODID:-//Zen Space - ECPv6.15.20//NONSGML v1.0//EN
CALSCALE:GREGORIAN
METHOD:PUBLISH
X-ORIGINAL-URL:https://zen-space.com.au
X-WR-CALDESC:Events for Zen Space
REFRESH-INTERVAL;VALUE=DURATION:PT1H
X-Robots-Tag:noindex
X-PUBLISHED-TTL:PT1H
BEGIN:VTIMEZONE
TZID:Australia/Brisbane
BEGIN:STANDARD
TZOFFSETFROM:+1000
TZOFFSETTO:+1000
TZNAME:AEST
DTSTART:20160101T000000
END:STANDARD
END:VTIMEZONE
BEGIN:VEVENT
DTSTART;TZID=Australia/Brisbane:20170128T140000
DTEND;TZID=Australia/Brisbane:20170128T170000
DTSTAMP:20260424T010111
CREATED:20161205T014026Z
LAST-MODIFIED:20161205T014026Z
UID:187-1485612000-1485622800@zen-space.com.au
SUMMARY:Pratyahara in Practice
DESCRIPTION:
URL:https://zen-space.com.au/event/pratyahara-in-practice/
LOCATION:Zen Space\, 225 Mt Glorious Rd\, Samford\, QLD\, 4520\, Australia
CATEGORIES:Training
END:VEVENT
BEGIN:VEVENT
DTSTART;TZID=Australia/Brisbane:20170128T090000
DTEND;TZID=Australia/Brisbane:20170128T120000
DTSTAMP:20260424T010111
CREATED:20161205T013652Z
LAST-MODIFIED:20161205T013652Z
UID:182-1485594000-1485604800@zen-space.com.au
SUMMARY:Exploring Effortless Movement
DESCRIPTION:In this session we will explore the magic of yoga\, how to reach that place between effort and ease – engaged and present with no struggle or push for ‘improving’. \nIt takes turning up\, tuning in\, becoming aware of the messages in the body\, and loving them first. It involves letting go of what you should do\, or what anyone else can do\, or even what you did yesterday. (Mollie Morris)
URL:https://zen-space.com.au/event/weekend-for-yoga-teachers-with-kate-pell/
LOCATION:Zen Space\, 225 Mt Glorious Rd\, Samford\, QLD\, 4520\, Australia
CATEGORIES:Training,Yoga
END:VEVENT
BEGIN:VEVENT
DTSTART;VALUE=DATE:20170128
DTEND;VALUE=DATE:20170130
DTSTAMP:20260424T010111
CREATED:20170123T101232Z
LAST-MODIFIED:20170123T101232Z
UID:747-1485561600-1485734399@zen-space.com.au
SUMMARY:Nourishing the Teacher
DESCRIPTION:
URL:https://zen-space.com.au/event/nourishing-the-teacher/
LOCATION:Zen Space\, 225 Mt Glorious Rd\, Samford\, QLD\, 4520\, Australia
CATEGORIES:Training,Yoga
END:VEVENT
END:VCALENDAR