BEGIN:VCALENDAR
VERSION:2.0
PRODID:-//Zen Space - ECPv6.15.20//NONSGML v1.0//EN
CALSCALE:GREGORIAN
METHOD:PUBLISH
X-WR-CALNAME:Zen Space
X-ORIGINAL-URL:https://zen-space.com.au
X-WR-CALDESC:Events for Zen Space
REFRESH-INTERVAL;VALUE=DURATION:PT1H
X-Robots-Tag:noindex
X-PUBLISHED-TTL:PT1H
BEGIN:VTIMEZONE
TZID:Australia/Brisbane
BEGIN:STANDARD
TZOFFSETFROM:+1000
TZOFFSETTO:+1000
TZNAME:AEST
DTSTART:20160101T000000
END:STANDARD
END:VTIMEZONE
BEGIN:VTIMEZONE
TZID:Australia/Melbourne
BEGIN:STANDARD
TZOFFSETFROM:+1100
TZOFFSETTO:+1000
TZNAME:AEST
DTSTART:20180331T160000
END:STANDARD
BEGIN:DAYLIGHT
TZOFFSETFROM:+1000
TZOFFSETTO:+1100
TZNAME:AEDT
DTSTART:20181006T160000
END:DAYLIGHT
BEGIN:STANDARD
TZOFFSETFROM:+1100
TZOFFSETTO:+1000
TZNAME:AEST
DTSTART:20190406T160000
END:STANDARD
BEGIN:DAYLIGHT
TZOFFSETFROM:+1000
TZOFFSETTO:+1100
TZNAME:AEDT
DTSTART:20191005T160000
END:DAYLIGHT
BEGIN:STANDARD
TZOFFSETFROM:+1100
TZOFFSETTO:+1000
TZNAME:AEST
DTSTART:20200404T160000
END:STANDARD
BEGIN:DAYLIGHT
TZOFFSETFROM:+1000
TZOFFSETTO:+1100
TZNAME:AEDT
DTSTART:20201003T160000
END:DAYLIGHT
BEGIN:STANDARD
TZOFFSETFROM:+1100
TZOFFSETTO:+1000
TZNAME:AEST
DTSTART:20210403T160000
END:STANDARD
BEGIN:DAYLIGHT
TZOFFSETFROM:+1000
TZOFFSETTO:+1100
TZNAME:AEDT
DTSTART:20211002T160000
END:DAYLIGHT
END:VTIMEZONE
BEGIN:VEVENT
DTSTART;TZID=Australia/Brisbane:20220226T070000
DTEND;TZID=Australia/Brisbane:20221127T170000
DTSTAMP:20260423T231439
CREATED:20210328T000210Z
LAST-MODIFIED:20220109T004643Z
UID:4706-1645858800-1669568400@zen-space.com.au
SUMMARY:Zen Space Yoga Teacher Training/Yoga Immersive 2022
DESCRIPTION:This 350 hour Yoga Teacher Training/Yoga Intensive course will commence on Saturday 26th February 2022 and finish in November 2022. Consisting of 9 weekends (1 weekend per month between February and November 2022) plus a 5-day retreat\, this Yoga Australia approved training will take you on a journey of self discovery and self awareness to enrich your life in many ways. Successful completion will enable you to become a fully registered and insured Level 1 yoga teacher with Yoga Australia. \nYou can also take the course for your own personal enjoyment and deepening into yoga. \nThe course will cover the physical practice of asana that you are familiar with from your attendance at at yoga classes\, exploring in detail the standing\, seated\, upside down\, supine and balancing shapes  including forward bends\, backbends\, hip openers\, lateral extensions\, arm balances and inversions (90 hours in total). Additionally you will come to understand many aspects of yoga not usually taught at class including: \n\nyogic history and philosophy;\nmany types of pranayama (breathwork) and why\, how and when to use them;\nmeditation techniques and their effect on your mind and body;\nancient Ayurvedic principles and their modern-day applications;\nyogic physiology with an in-depth study of the chakras and other energy fields;\ntraditional anatomy and physiology and how to use this knowledge in asana;\nthe techniques of teaching such as observation\, voice awareness\, language and communication\, giving options\,  adjusting for injury and other needs;\nand much much more!\n\n  \nYour Commitment \nThe Course comprises: \n\n9 x 2-day in class weekends 7am to 5pm (dates below)\n1 x 5-day retreat in September 2022\nTwo hours per week home practice of the techniques studied at weekend workshops\nTwo hours homework per month on topics covered at weekend workshops\n1 free class per week with Wen\n\nTogether these activities make up the 350 hours required to qualify you as a Registered Level 1 Teacher with Yoga Australia. \n  \nCourse Dates 2022 \nSaturdays and Sundays\, commence at 7am and end at 5pm. There will be a 30 minute breakfast break at 9am; a 1 hour lunch break between 12:30 and 1:30p; and a 10 minute break around 3.30pm. \n \n  \nHow to Apply for this Course \nHave a genuine intention to fully engage as the course requires a personal commitment of your time\, energy and finances – so please approach it with a noble intention to complete all requirements. \nThe cost is $5500 paid in 5 instalments of $1\,100 across the year. Consider this money well spent as it is your own health\, wellbeing and future prospects that will grow. \nTo apply and reserve a place\, a processing fee of $250 is to be paid with your Application Form prior to the commencement of the course. A 14-day cooling-off period then applies. If you withdraw during this time a $100 refund will be given. Upon acceptance for the training an additional non-refundable $850 is to be paid (this constitutes your first full instalment). \nThe outstanding $4\,400 is due in $1\,100 instalments on the first day of March\, May\, July and September. Financial matters should not get in the way of learning and studying yoga. So\, if you are in financial difficulty and need to work out a more suitable payment schedule please feel free to talk with the teacher. \nBy enrolling\, students accept the Course Terms & Conditions. \nClick here to apply. \nYour Teacher \n \nWen Reid (Level 2 Yoga Teacher) will pilot the year (under the mentorship of Senior Level 3 Teacher Kate Pell)\, and will encourage and support you to challenge yourself\, to know how and when to rest\, to take responsibility for your own progress\, and above all to enjoy the journey with fun and laughter! \nWen trained in 2012 with Kate Pell\, and started teaching beginners courses at Sattva (now Zen Space) in 2013. The personal transformation that evolved from her yoga studies and teaching led Wen to leave her corporate role as CEO to make yoga her new life path. \nShe has a strong commitment to continuing professional development and has studied in Australia and overseas with some of the finest teachers including Diane Long (Rome)\, Donna Farhi (NZ)\, Flo Fenton (Australia)\, Simon Borg-Olivier (Australia) and most importantly\, Kate Pell. Wen has assisted Kate in two 350 hour year-long Yoga Teacher Training Courses and expresses her deep gratitude for this rare opportunity. \nWen has post graduate qualifications in psychology and business\, and a 15-year practice of non violent communication. She combines these with her yoga teaching resulting in style that is focused\, empathic\, accepting\, inclusive and above all – fun! \nOther highly qualified and experienced teachers will be invited to teach portions of the course. \n  \nSo Go Ahead – Make the Leap!  \nAs Kate Pell (teacher of teachers and Mentor to Wen across the year) says: \nYou will learn how the yogic journey is a journey within\, bringing you home to your essential nature and true self – which is not the scary monster that many of us spend our lives avoiding\, but a place of freedom\, choice\,  joy\, spontaneity and connection. \nYou can take the course for your own personal enjoyment and deepening into yoga\, and/or to become a fully registered and insured Level 1 yoga teacher with Yoga Australia. \nFor any questions or a chat about whether you can do it please email or call Wen: \nE: arwenreid@yahoo.com.au \nM: 0421 058 250
URL:https://zen-space.com.au/event/zen-space-yoga-intensive-teacher-training-2022/
LOCATION:Zen Space\, 225 Mt Glorious Rd\, Samford\, QLD\, 4520\, Australia
CATEGORIES:Chanting,Class Series,Meditation,Music,Restorative Yoga,Retreat,Training,Yoga
END:VEVENT
BEGIN:VEVENT
DTSTART;TZID=Australia/Melbourne:20200216T103000
DTEND;TZID=Australia/Melbourne:20200216T163000
DTSTAMP:20260423T231439
CREATED:20200206T021521Z
LAST-MODIFIED:20200206T025241Z
UID:3763-1581849000-1581870600@zen-space.com.au
SUMMARY:What to Do When Your Students Can't - a Workshop for Yoga Teachers
DESCRIPTION:Especially for Yoga Teachers – come along and explore the challenges yoga teachers face when students can’t access the asana you’re teaching. \nUsing a dialogic approach Camille and Wen will guide you on the energetics of asana\, how to ‘read’ your student’s bodies to understand their needs and challenges\, and how to work with common problems students bring to class. \nEmploying props\, modifications and alternatives\, we will explore options so you have a greater capacity to meet the diverse needs of your students. \n~ Details ~\nSunday\, 16 February\, 10:30am -4:30pm \nZen Space ~ located at 225 Mt Glorious Rd\, Samford \nBOOKING IS ESSENTIAL \nInvestment :\n$150 by transfer to our account\, or pay on the day. \nEarns 6 CPD points \nBOOKING IS ESSENTIAL \nTo confirm your place please book your spot by contacting: \nWen 0421 058 250 or arweneid@yahoo.com.au \nFeel free to ask us any questions by contacting through Facebook\, calling by phone or email. \nAbout us:\nCamille first began in movement arts in 1989 with the Korean martial art of Hapkido at age 19\, training intensively for 10 years to reach 2nd Dan level. She taught Hapkido in Brisbane from 1995. She then shifted focus from the strong martial arts style towards Chi Gung\, Tibetan Buddhist and began teacher training in Iyengar Yoga with Peter Scott in 2002. \nCamille values self-enquiry and ongoing learning\, participating regularly in workshops with Senior Iyengar teachers including Abhijata Iyengar\, Caroline Coggins and Sue Everett. She competed a Masters of Communication in 2018.\n\nWith 25 years of teaching experience\, Camille imbues her classes with professionalism and warm-heartedness. Students are entreated to move deeply inward to find alignment that includes physical\, mental and emotional balance\, learning to connect with- and direct the energies within.\n  \nWen is a certified Level 2 Yoga Teacher with seven years teaching experience\, including Yoga Teacher Training assisting Kate Pell. She has trained with internationally with acclaimed teachers Diane Long and Donna Farhi\, and in Australia with Kate Pell\, Flo Fenton and Simon Borg-Olivier. Her classes combine her qualifications in psychology and non-violent communication resulting in style that is focused\, empathic\, accepting and above all – fun!!
URL:https://zen-space.com.au/event/what-to-do-when-your-students-cant-a-workshop-for-yoga-teachers/
LOCATION:Zen Space\, 225 Mount Glorious Road\, Samford Valley\, QLD\, 4520\, Australia
CATEGORIES:Training,Yoga
ATTACH;FMTTYPE=image/jpeg:https://zen-space.com.au/wp-content/uploads/2020/02/Urdvha-dhanu-on-chair-scaled.jpeg
END:VEVENT
BEGIN:VEVENT
DTSTART;VALUE=DATE:20191115
DTEND;VALUE=DATE:20191118
DTSTAMP:20260423T231439
CREATED:20191021T033641Z
LAST-MODIFIED:20191021T044537Z
UID:3456-1573776000-1574035199@zen-space.com.au
SUMMARY:Trauma Center Trauma Sensitive Yoga Training
DESCRIPTION:This Official Trauma Center Yoga Program (USA)\, 20hr\, 3 day Trauma Center Trauma-Sensitive Yoga (TC-TSY) Foundational Workshop is for certified Yoga Teachers and/or Health and Mental Health Professionals. The workshop will introduce the core concepts and applications of the highly regarded\, evidence based yoga program \,TCTSY: for adults and youth affected by PTSD\, developmental\, and/or complex trauma\, dissociative disorders and other related emotional and behavioural difficulties. \nIn this workshop you will be introduced to:\n-The latest trauma theories and neurophysiology\n-Theoretical underpinnings and methodology of the TC-TSY model\n-The research and evidence base involving TC-TSY & how TSY evolved into TC-TSY\n-How to apply TC-TSY principles to your practice and more! \nWHEN: November 15-17\, 2019\nFriday November 16\, 1pm-5pm\nSaturday November 17\, 9.30am – 5.30pm\nSunday November 18\, 9.30am – 5.30pm\nMorning and afternoon teas provided\, lunch is self catered. BYO or visit a cafe nearby.
URL:https://zen-space.com.au/event/trauma-center-trauma-sensitive-yoga-training/
LOCATION:Zen Space\, 225 Mt Glorious Rd\, Samford\, 4520\, AU
CATEGORIES:Training,Yoga
END:VEVENT
BEGIN:VEVENT
DTSTART;VALUE=DATE:20190921
DTEND;VALUE=DATE:20200727
DTSTAMP:20260423T231439
CREATED:20180910T040041Z
LAST-MODIFIED:20190909T035718Z
UID:1348-1569024000-1595807999@zen-space.com.au
SUMMARY:BRISBANE 2019/2020 YOGA TEACHER TRAINING with KATE PELL
DESCRIPTION:Level I Teacher Training Course 2019/2020\nThe 350 hour Brisbane Yoga teacher training course will commence on 21-22 September 2019 and contacts hours conclude in July 2020\, and an extra month of mentorship is provided to assist you with ideas relating to the setting up of a business. The Course includes 9 weekends plus a 5-day retreat\, see the BRISBANE YTT 2019:2020 Monthly Schedule here. \nThose who complete the course satisfactorily will qualify as a Level I yoga teacher with Yoga Australia. This will allow you to become a fully registered and insured Level I yoga teacher\, and begin to teach students with clarity and safety from beginners to general level yoga classes. If you do not want to become a yoga teacher\, you can still do the course as self-development experience. \nThe course covers all the philosophical and aspects of yoga and meditation. It will enable you to teach with confidence\, from beginners to general level classes\, and the aspects of practice that excite you the most. There is a great need for more and more Yoga teachers and Yoga centres in our society and there are many areas from schools to old age homes where yoga has the opportunity to assist all beings be more aware to the great truths of life. Thus finding more joy\, spontaneity and connection in ones life. \nLots more information include course content\, dates and support teachers on the teacher training page. \nTo apply\nPlease download the Brisbane YTT 2019:2020 Application Form and send it to Kate at kate@bowralyogastudio.com.au. This course is limited to 25 students and a minimum of two years prior yoga/meditation practice is recommended. Please also read the Brisbane YTT 2019:2020 Policies\, Terms\, and Conditions
URL:https://zen-space.com.au/event/brisbane-2019-yoga-teacher-training-with-kate-pell/
LOCATION:Zen Space\, 225 Mt Glorious Rd\, Samford\, QLD\, 4520\, Australia
CATEGORIES:Class Series,Training,Yoga
ATTACH;FMTTYPE=image/jpeg:https://zen-space.com.au/wp-content/uploads/2018/09/A4-POSTER-BRISBANE-TEACHER-TRAINING-use-this.jpg
END:VEVENT
BEGIN:VEVENT
DTSTART;VALUE=DATE:20190511
DTEND;VALUE=DATE:20190520
DTSTAMP:20260423T231439
CREATED:20190212T041424Z
LAST-MODIFIED:20190212T041555Z
UID:2707-1557532800-1558310399@zen-space.com.au
SUMMARY:Zenthai Shiatsu Level One 4 day (across two weekends)
DESCRIPTION:This 4 day intensive will be held across two weekends at Zen Space in Samford Valley. \nZenthai Shiatsu is a unique therapy combining Traditional Thai Massage\, Zen Shiatsu & Osteopathic Techniques\, bringing freedom of movement to the structural and energetic bodies. \nKate is excited to share this one with you! \nIf you haven’t done so before\, please fill out the Enrollment Form before booking. \nBook
URL:https://zen-space.com.au/event/zenthai-shiatsu-level-one-4-day-across-two-weekends-2019/
LOCATION:Zen Space\, 225 Mt Glorious Rd\, Samford\, QLD\, 4520\, Australia
CATEGORIES:Training,Zenthai
END:VEVENT
BEGIN:VEVENT
DTSTART;TZID=Australia/Brisbane:20190225T090000
DTEND;TZID=Australia/Brisbane:20190226T170000
DTSTAMP:20260423T231439
CREATED:20190107T085829Z
LAST-MODIFIED:20190127T211537Z
UID:2603-1551085200-1551200400@zen-space.com.au
SUMMARY:Zenthai Shiatsu - Elemental Immersion NZ
DESCRIPTION:Zenthai Immersion\nDiscovering freedom through movement\, bodywork and the 5 Elements of Traditional Chinese Medicine\n2 day Workshop – Feb 25th & 26th\nKawai Purapura – Auckland\, New Zealand \nZenthai Shiatsu embodies the practices of Zen Shiatsu\, Traditional Thai Massage and Osteopathic techniques of joint mobilisation and fascial unwinding. \nZenthai is a fluid bodywork modality founded upon Traditional Chinese Medicine and 5 Element Theory. \nAt the core of Zenthai is metta\, loving kindness and creating a safe space to promote healing. The essence of Zenthai is offering the invitation to align with our true nature\, one of connection and heart presence. \nAs Zenthai continues to develop over the past 2 decades\, the movement based therapy offers freedom of movement to the structural and energetic body systems. \nZenthai Immersion teaches you the threads of Zenthai and the principles for offering effective\, therapeutic bodywork. \nThis course invites you to embody stillness\, presence\, creativity and curiosity. It is an invitation to land deeply within yourself\, immerse yourself in nature\, connect with community and cultivate a listening to the currents beneath the skin. \nZenthai Immersion- 2 day workshop encapsulates the essence of Zenthai Shiatsu and Zenthai Flow. \nZenthai flow is at the heart\, embodying the 5 Elements of Traditional Chinese Medicine through solo asana\, partner yoga and self inquiry. When learning about the qualities of each element\, we can see ourselves as a part of nature and nature a part of us.\nDuring this workshop\, we will explore and understand how the elements are influenced in our body\, health\, mind and emotions. To see it\, is to heal it. We will discover signs of harmony and disharmony and be given simple and effective practices to support balance in daily life. \nThis workshop is for you:\n• You are curious about the 5 Elements\n• Meridians and Traditional Chinese Medicine intrigues you\n• You love being a part of community and connection\n• Your being called to come play\, not knowing why\, yet trusting\nthe flow\n• You love Yoga and want to explore new ways to move and\nembody your practice\n• You practice other forms of bodywork\, so why not try something\nnew\n• You’ve heard about Zenthai and are thirsty for more\n• You are on a path of self inquiry\, growth and healing\n• You are open and courageous to explore new terrains ….\nthis workshop is for everyone! \nWant to know more…….. \nCourse Content:\n• Embody the threads of Zenthai and the principles of offering\neffective therapeutic bodywork\n• Learn about the qualities of Earth\, Metal\, Water\, Wood and Fire\nthrough the lens of Traditional Chinese Medicine\n• Explore asana\, partner yoga and fluid movement embodying\nthe 5 Elements\n• Discover the locations and relationships of the 12 Meridian\npathways\n• Learn foundations of western anatomy and how the body\nresponds to movement\, emotion and stress\n• Sensing into a deeper inner listening and self-inquiry\n• Learn specific practices to balance each element based upon\nbreath\, movement\, mantra\, food and touch\n• Develop skills and gestures to offer bodywork therapy to\nbalance and support healing\n• Practice Zenthai Shiatsu sequences to balance each element\nand what shows up in the body when out of balance\n• Offer and receive powerful and playful Zenthai Shiatsu\nBodywork \nDelivery:\n• Monday 25th & Tuesday 26th February 2019\n• Mixed theory and practice\n• We embody the practice with plenty of play and exploration \nMonday morning\n• Earth Asana movement practice\n• Qualities of touch when offering Zenthai Shiatsu bodywork\n• Practices to balance Earth\nMonday afternoon\n• Metal Qi Gong movement practice\n• Practices to build your immunity\n• Zenthai Shiatsu bodywork sequence\n• Healing ceremony\nTuesday morning\n• Water Somatic movement practice\n• Exploring the 5 Element relationships\n• Zenthai Shiatsu bodywork sequence\nTuesday afternoon\n• Wood Dynamic movement practice\n• Practices to clear the free flow of Qi\n• Zenthai Shiatsu bodywork sequence\n• Fire Heart Celebration practice\n• Connecting us back home \nEarth ~ embodying stillness\, stability\, grounded practices\, inversions\, meditation\, spleen and stomach meridians \nMetal ~ Feeling the current of Qi\, surrendering all that doesn’t serve\, honouring self in ceremony\, lung and large intestine meridians \nWater ~ feuling your vital essence\, supporting the nervous system\, being gentle\, trusting\, kidney and bladder meridians \nWood ~ empowering adaptability and flexibility\, directing the focus\, encouraging expansion\, liver and gall bladder meridians \nFire ~ the ambient light\, transformation\, consciousness\, transmission\, gratitude\, heart\, pericardium\, triple heater and small intestine meridians. \nFacilitators:\nMerryn and Kate have 20 years experience teaching and practicing anatomy\, movement and bodywork. Their shared passion of Zenthai Shiatsu emanates through creating a safe container for students to explore movement and touch with loving presence and playful curiosity. \nMerryn Jane Penington\nMerryn has an infectious nature that inspires others to be uplifted by the mechanisms of healing. The power of her presence is enriched with her passion to empower others. Merryn offers support in the alignment of our true nature\, connection. The fascination of the body\, emotion and energy has engulfed Merryn in the past 19 years of teaching anatomy\, movement and bodywork. Merryn’s approach to bodywork and movement is memorising\, playful and insightful\, a true alchemist of the body and energy systems. \nKate Barzdo\nKate Barzdo is the founder of Zen Space\, and an experienced Zenthai Shiatsu Therapist & Facilitator who has adopted Zenthai as her primary healing tool due to it’s comprehensive approach and holistic therapy. Her clients experience lasting positive benefits. \nShe is also a registered Yoga Chi Gung teacher with nearly two decades experience teaching with a has a background in martial arts and dance and a passionate musician and singer with a joy of sharing music with the community. \n“I am inspired by energy based bodywork and exercise systems with extensive experience in Yoga\, Aikido\, Chi Gung\, Thai Massage & Shiatsu. They have common threads in their understanding of the physical and energetic bodies. \nI love sharing these healing arts with the community through treatments\, classes and workshops\, with the vision that others may also share these easy to learn skills with family and friends and we can all experience greater wellbeing in our lives. I look forward to meeting you and helping create more balance in your life.” \nFounder of Zenthai Shiatsu ~ Gwyn Williams\nGwyn Williams is the founder of Zenthai Shiatsu and author of Zen of Touch and Connection to Source. Gwyn offers teachings all over the world and is often based on the Sunshine Coast in Australia or Bali\, his second home. Its an incredible gift to be in the presence of this man\, he embodies the essence of life to the core. \nInvestment:\n$190 NZ \nBookings:\nwww.zen-space.com.au \nEnquires:\nmerrynzenthai@gmail.com\nzenthaipinky@gmail.com\n+61 418 617 451 \nLinks:\nwww.zenthaishiatsu.com\nhttp://facebook.com/myzenspace\nhttp://www.facebook.com/zenthaiofferings \nThis will be a joy to share with you \n#liveyourdharma #zenthaishiatsu #zenthiaflow \n♥ Prepaid: $190 NSD ♥ \nEnrollment Form
URL:https://zen-space.com.au/event/zenthai-shiatsu-elemental-immersion/
LOCATION:Kawai Purapura\, 14 Mills Lane\, Auckland\, 0632\, New Zealand
CATEGORIES:Training,Zenthai
END:VEVENT
BEGIN:VEVENT
DTSTART;VALUE=DATE:20180414
DTEND;VALUE=DATE:20180416
DTSTAMP:20260423T231439
CREATED:20180217T233044Z
LAST-MODIFIED:20180217T233044Z
UID:2018-1523664000-1523836799@zen-space.com.au
SUMMARY:Zenthai Shiatsu Training with Kate Barzdo
DESCRIPTION:If you haven’t done so before\, please fill out the Enrolment Form before booking.\nEnrolment Form (if you’re new) \n  \nBook
URL:https://zen-space.com.au/event/zenthai-shiatsu-training-with-kate-barzdo/
LOCATION:Zen Space\, 225 Mount Glorious Road\, Samford Valley\, 4520\, AU
CATEGORIES:Training
END:VEVENT
BEGIN:VEVENT
DTSTART;TZID=Australia/Brisbane:20171015T093000
DTEND;TZID=Australia/Brisbane:20171015T170000
DTSTAMP:20260423T231439
CREATED:20170920T054639Z
LAST-MODIFIED:20170920T054639Z
UID:1482-1508059800-1508086800@zen-space.com.au
SUMMARY:Zenthai Shiatsu - An Introduction - one day workshop
DESCRIPTION:This one day workshop will be held Zen Space in Samford Valley and anyone is welcome to join! \nZenthai Shiatsu is a unique therapy combining Traditional Thai Massage\, Zen Shiatsu & Osteopathic Techniques\, bringing freedom of movement to the structural and energetic bodies. \nWe’ll begin the day with a nourishing yoga practice and then you will enjoy learning Zenthai techniques. We’ll complete the day with a guided flow\, bringing together all that you’ve learned! \n♥ Prepaid: $100 ♥\n♥ At the door: $125 ♥ \nBook for course
URL:https://zen-space.com.au/event/zenthai-shiatsu-an-introduction-one-day-workshop/
LOCATION:Zen Space\, 225 Mt Glorious Rd\, Samford\, 4520\, AU
CATEGORIES:Training,Zenthai
ATTACH;FMTTYPE=image/jpeg:https://zen-space.com.au/wp-content/uploads/2017/09/1482_image_21751983_1195153463919228_1439156767322672844_n.jpg
END:VEVENT
BEGIN:VEVENT
DTSTART;TZID=Australia/Brisbane:20170422T083000
DTEND;TZID=Australia/Brisbane:20170507T163000
DTSTAMP:20260423T231439
CREATED:20170105T032226Z
LAST-MODIFIED:20170105T032226Z
UID:500-1492849800-1494174600@zen-space.com.au
SUMMARY:Zenthai Shiatsu Level 1 - 22-23 April + 6-7 May 2017
DESCRIPTION:This 4 day intensive will be held across two weekends at Zen Space in Samford Valley: This will be the only Zenthai course run in Brisbane this year. \nZenthai Shiatsu is a unique therapy combining Traditional Thai Massage\, Zen Shiatsu & Osteopathic Techniques\, bringing freedom of movement to the structural and energetic bodies. \nFull price  \nDeposit  \nMore info to come soon!
URL:https://zen-space.com.au/event/zenthai-shiatsu-level-1-over-two-weekends-in-samford/
LOCATION:Zen Space\, 225 Mt Glorious Rd\, Samford\, QLD\, 4520\, Australia
CATEGORIES:Training,Zenthai
END:VEVENT
BEGIN:VEVENT
DTSTART;TZID=Australia/Brisbane:20170129T100000
DTEND;TZID=Australia/Brisbane:20170129T130000
DTSTAMP:20260423T231439
CREATED:20161205T014133Z
LAST-MODIFIED:20161205T014133Z
UID:189-1485684000-1485694800@zen-space.com.au
SUMMARY:The Evolving Teacher Within
DESCRIPTION:
URL:https://zen-space.com.au/event/the-evolving-teacher-within/
LOCATION:Zen Space\, 225 Mt Glorious Rd\, Samford\, QLD\, 4520\, Australia
CATEGORIES:Training
END:VEVENT
BEGIN:VEVENT
DTSTART;TZID=Australia/Brisbane:20170128T140000
DTEND;TZID=Australia/Brisbane:20170128T170000
DTSTAMP:20260423T231439
CREATED:20161205T014026Z
LAST-MODIFIED:20161205T014026Z
UID:187-1485612000-1485622800@zen-space.com.au
SUMMARY:Pratyahara in Practice
DESCRIPTION:
URL:https://zen-space.com.au/event/pratyahara-in-practice/
LOCATION:Zen Space\, 225 Mt Glorious Rd\, Samford\, QLD\, 4520\, Australia
CATEGORIES:Training
END:VEVENT
BEGIN:VEVENT
DTSTART;TZID=Australia/Brisbane:20170128T090000
DTEND;TZID=Australia/Brisbane:20170128T120000
DTSTAMP:20260423T231439
CREATED:20161205T013652Z
LAST-MODIFIED:20161205T013652Z
UID:182-1485594000-1485604800@zen-space.com.au
SUMMARY:Exploring Effortless Movement
DESCRIPTION:In this session we will explore the magic of yoga\, how to reach that place between effort and ease – engaged and present with no struggle or push for ‘improving’. \nIt takes turning up\, tuning in\, becoming aware of the messages in the body\, and loving them first. It involves letting go of what you should do\, or what anyone else can do\, or even what you did yesterday. (Mollie Morris)
URL:https://zen-space.com.au/event/weekend-for-yoga-teachers-with-kate-pell/
LOCATION:Zen Space\, 225 Mt Glorious Rd\, Samford\, QLD\, 4520\, Australia
CATEGORIES:Training,Yoga
END:VEVENT
BEGIN:VEVENT
DTSTART;VALUE=DATE:20170128
DTEND;VALUE=DATE:20170130
DTSTAMP:20260423T231439
CREATED:20170123T101232Z
LAST-MODIFIED:20170123T101232Z
UID:747-1485561600-1485734399@zen-space.com.au
SUMMARY:Nourishing the Teacher
DESCRIPTION:
URL:https://zen-space.com.au/event/nourishing-the-teacher/
LOCATION:Zen Space\, 225 Mt Glorious Rd\, Samford\, QLD\, 4520\, Australia
CATEGORIES:Training,Yoga
END:VEVENT
END:VCALENDAR