BEGIN:VCALENDAR
VERSION:2.0
PRODID:-//Zen Space - ECPv6.15.20//NONSGML v1.0//EN
CALSCALE:GREGORIAN
METHOD:PUBLISH
X-ORIGINAL-URL:https://zen-space.com.au
X-WR-CALDESC:Events for Zen Space
REFRESH-INTERVAL;VALUE=DURATION:PT1H
X-Robots-Tag:noindex
X-PUBLISHED-TTL:PT1H
BEGIN:VTIMEZONE
TZID:Australia/Melbourne
BEGIN:STANDARD
TZOFFSETFROM:+1100
TZOFFSETTO:+1000
TZNAME:AEST
DTSTART:20170401T160000
END:STANDARD
BEGIN:DAYLIGHT
TZOFFSETFROM:+1000
TZOFFSETTO:+1100
TZNAME:AEDT
DTSTART:20170930T160000
END:DAYLIGHT
BEGIN:STANDARD
TZOFFSETFROM:+1100
TZOFFSETTO:+1000
TZNAME:AEST
DTSTART:20180331T160000
END:STANDARD
BEGIN:DAYLIGHT
TZOFFSETFROM:+1000
TZOFFSETTO:+1100
TZNAME:AEDT
DTSTART:20181006T160000
END:DAYLIGHT
BEGIN:STANDARD
TZOFFSETFROM:+1100
TZOFFSETTO:+1000
TZNAME:AEST
DTSTART:20190406T160000
END:STANDARD
BEGIN:DAYLIGHT
TZOFFSETFROM:+1000
TZOFFSETTO:+1100
TZNAME:AEDT
DTSTART:20191005T160000
END:DAYLIGHT
BEGIN:STANDARD
TZOFFSETFROM:+1100
TZOFFSETTO:+1000
TZNAME:AEST
DTSTART:20200404T160000
END:STANDARD
BEGIN:DAYLIGHT
TZOFFSETFROM:+1000
TZOFFSETTO:+1100
TZNAME:AEDT
DTSTART:20201003T160000
END:DAYLIGHT
END:VTIMEZONE
BEGIN:VTIMEZONE
TZID:Australia/Brisbane
BEGIN:STANDARD
TZOFFSETFROM:+1000
TZOFFSETTO:+1000
TZNAME:AEST
DTSTART:20170101T000000
END:STANDARD
END:VTIMEZONE
BEGIN:VEVENT
DTSTART;TZID=Australia/Melbourne:20190120T140000
DTEND;TZID=Australia/Melbourne:20190120T170000
DTSTAMP:20260426T022917
CREATED:20190102T231811Z
LAST-MODIFIED:20190102T231854Z
UID:2553-1547992800-1548003600@zen-space.com.au
SUMMARY:Body Bliss Restorative Yoga Mini Retreat
DESCRIPTION:Women\, come and feel deeply nourished from the inside out with this luscious\, bliss-filled class of comfortable nurturing poses\, guided meditation\, beautiful poetry and soothing music. \nRestorative yoga is one of the most beneficial modalities for women. It creates a cascade of wonderful effects that drastically reduce stress\, balance hormones\, help with weight reduction\, ease menstrual and menopause challenges\, and creates a deep sense of spaciousness to our otherwise busy lives. \nYou will leave this class feeling cleansed\, deeply nourished and ready for life ahead. \n~ Details ~\nSunday\, January 20\, 2-5pm\nInvestment*:\n$50 Early Bird (by January 12)\n$55 (by January 19)\n$60 (on the day if available)\nZen Space ~ located at 225 Mt Glorious Rd\, Samford \n\nAnyone who identifies as female is warmly welcome.\n*Cancellations made within 24 hours of the event are non-refundable*\n\n\n\n\nTo confirm your place please send your direct deposit to:\nLaurina Kersten\, Westpac\nBSB 736-306 ACC no 66-5146 \nPlease insert your name & ‘BB20″ in the transfer & EMAIL ME so I have your contact details to send you full details ~ laurina.kersten@gmail.com \nAlternatively\, you can use the following link below to pay via PayPal\nwww.laurinakersten.com/events \nAnd feel free to call\, text or email me any questions ~ 0481 556 109\, Laurina.kersten@gmail.com \nFacilitator:\nLaurina is the founder of Well Woman Yoga. She works with women to use conscious body movement as a catalyst for providing deep inner nourishment. A passionate spiritual explorer\, Laurina is initiated into yoga as well as many women’s sacred dance traditions and has taught in Asian countries as well as Australia.
URL:https://zen-space.com.au/event/body-bliss-restorative-yoga-mini-retreat-jan19/
LOCATION:Zen Space\, 225 Mount Glorious Road\, Samford Valley\, QLD\, 4520\, Australia
CATEGORIES:Restorative Yoga,Retreat,Yoga
ATTACH;FMTTYPE=image/jpeg:https://zen-space.com.au/wp-content/uploads/2018/08/38712089_10155421874516556_6563400671914098688_n.jpg
END:VEVENT
BEGIN:VEVENT
DTSTART;TZID=Australia/Melbourne:20181209T140000
DTEND;TZID=Australia/Melbourne:20181209T170000
DTSTAMP:20260426T022917
CREATED:20181121T021906Z
LAST-MODIFIED:20181121T021942Z
UID:2476-1544364000-1544374800@zen-space.com.au
SUMMARY:Body Bliss Restorative Yoga Mini Retreat
DESCRIPTION:Women\, come and feel deeply nourished from the inside out with this luscious\, bliss-filled class of comfortable nurturing poses\, guided meditation\, beautiful poetry and soothing music. \nRestorative yoga is one of the most beneficial modalities for women. It creates a cascade of wonderful effects that drastically reduce stress\, balance hormones\, help with weight reduction\, ease menstrual and menopause challenges\, and creates a deep sense of spaciousness to our otherwise busy lives. \nYou will leave this class feeling cleansed\, deeply nourished and ready for life ahead. \n~ Details ~\nSunday\, December 9\, 2-5pm\nInvestment*:\n$50 Early Bird (by December 1)\n$55 (by December 8)\n$60 (on the day if available)\nZen Space ~ located at 225 Mt Glorious Rd\, Samford \n\nAnyone who identifies as female is warmly welcome.\n*Cancellations made within 24 hours of the event are non-refundable*\n\n\n\n\nTo confirm your place please send your direct deposit to:\nLaurina Kersten\, Westpac\nBSB 736-306 ACC no 66-5146 \nPlease insert your name & ‘BB9″ in the transfer & EMAIL ME so I have your contact details to send you full details ~ laurina.kersten@gmail.com \nAlternatively\, you can use the following link below to pay via PayPal\nhttps://www.laurinakersten.com/events \nAnd feel free to call\, text or email me any questions ~ 0481 556 109\, Laurina.kersten@gmail.com \nFacilitator:\nLaurina is the founder of Well Woman Yoga. She works with women to use conscious body movement as a catalyst for providing deep inner nourishment. A passionate spiritual explorer\, Laurina is initiated into yoga as well as many women’s sacred dance traditions and has taught in Asian countries as well as Australia. \n\n\n\n\n\n\n\n\n\n\n\n\n\n\n\n\n\n\n\n\n\n\n\n\n\n\n\n\n\n\n\n\n\n\n\n\n\nwww.laurinakersten.com \n\nFacebook\n\n“I wish to live a life that causes my soul to dance inside my body.”\n~ Dele Olanubi
URL:https://zen-space.com.au/event/body-bliss-restorative-yoga-mini-retreat-9-12/
LOCATION:Zen Space\, 225 Mount Glorious Road\, Samford Valley\, QLD\, 4520\, Australia
CATEGORIES:Restorative Yoga,Retreat,Yoga
ATTACH;FMTTYPE=image/jpeg:https://zen-space.com.au/wp-content/uploads/2018/08/38712089_10155421874516556_6563400671914098688_n.jpg
END:VEVENT
BEGIN:VEVENT
DTSTART;TZID=Australia/Melbourne:20181125T140000
DTEND;TZID=Australia/Melbourne:20181125T170000
DTSTAMP:20260426T022917
CREATED:20181112T205111Z
LAST-MODIFIED:20181112T205411Z
UID:2458-1543154400-1543165200@zen-space.com.au
SUMMARY:Body Bliss Restorative Yoga Mini Retreat
DESCRIPTION:Women\, come and feel deeply nourished from the inside out with this luscious\, bliss-filled class of comfortable nurturing poses\, guided meditation\, beautiful poetry and soothing music.\n\nRestorative yoga is one of the most beneficial modalities for women. It creates a cascade of wonderful effects that drastically reduce stress\, balance hormones\, help with weight reduction\, ease menstrual and menopause challenges\, and creates a deep sense of spaciousness to our otherwise busy lives.\n\n\n\nYou will leave this class feeling cleansed\, deeply nourished and ready for life ahead. \n~ Details ~ \n\n\n\nSunday\, November 25\, 2-5pm\nInvestment:\n$50 Early Bird (by November 17)\n$55 (by November 24)\n$60 (on the day if available)\nZen Space ~ located at 225 Mt Glorious Rd\, Samford \n\nAnyone who identifies as female is warmly welcome.\n\nTo confirm your place please send your direct deposit to:\n\n\n\n\n\n\n\n\nLaurina Kersten\, Westpac\nBSB 736-306 ACC no 66-5146\n\nPlease insert your name & ‘BB25″ in the transfer & EMAIL ME so I have your contact details to send you full details ~ laurina.kersten@gmail.com\n\n\n\n\n\n\nAlternatively\, you can use the following link below to pay via PayPal\nhttps://www.laurinakersten.com/eventsAnd feel free to call\, text or email me any questions ~ 0481 556 109\, Laurina.kersten@gmail.com \nFacilitator:\nLaurina is the founder of Well Woman Yoga. She works with women to use conscious body movement as a catalyst for providing deep inner nourishment. A passionate spiritual explorer\, Laurina is initiated into yoga as well as many women’s sacred dance traditions and has taught in Asian countries as well as Australia. \n*Cancellations made within 24 hours of the event are non-refundable* \n\n\n\n\n\n\n\n\n\n\n\n\n\n\n\n\n\n\n\n\n\n\n\n\n\n\n\n\n\n\n\n\n\nWarmly\, \nLaurina\n\nwww.laurinakersten.com \n\nFacebook\n\n“I wish to live a life that causes my soul to dance inside my body.”\n~ Dele Olanubi
URL:https://zen-space.com.au/event/body-bliss-restorative-yoga-mini-retreat-11-2-2/
LOCATION:Zen Space\, 225 Mount Glorious Road\, Samford Valley\, QLD\, 4520\, Australia
CATEGORIES:Restorative Yoga,Retreat,Yoga
ATTACH;FMTTYPE=image/jpeg:https://zen-space.com.au/wp-content/uploads/2018/08/38712089_10155421874516556_6563400671914098688_n.jpg
END:VEVENT
BEGIN:VEVENT
DTSTART;TZID=Australia/Melbourne:20181104T140000
DTEND;TZID=Australia/Melbourne:20181104T170000
DTSTAMP:20260426T022917
CREATED:20181018T204445Z
LAST-MODIFIED:20181018T204816Z
UID:2445-1541340000-1541350800@zen-space.com.au
SUMMARY:Body Bliss Restorative Yoga Mini Retreat
DESCRIPTION:Women\, come and feel deeply nourished from the inside out with this luscious\, bliss-filled class of comfortable nurturing poses\, guided meditation\, beautiful poetry and soothing music. \nRestorative yoga is one of the most beneficial modalities for women. It creates a cascade of wonderful effects that drastically reduce stress\, balance hormones\, help with weight reduction\, ease menstrual and menopause challenges\, and creates a deep sense of spaciousness to our otherwise busy lives. \nYou will leave this class feeling cleansed\, deeply nourished and ready for life ahead. \n~ Details ~\nSunday November 4\, 2pm – 5pm\nInvestment:\n$50 Early Bird (by October 27)\n$55 (by November 3)\n$60 (cash on the day if a spot is available)\nZen Space ~ located at 225 Mt Glorious Rd\, Samford \nTo confirm your place please send your direct deposit to:\nLaurina Kersten\, Westpac\nBSB 736-306 ACC no 66-5146 \nPlease insert your name & ‘BB4″ in the transfer & EMAIL ME so I have your contact details to send you full details ~ laurina.kersten@gmail.com \nAlternatively\, you can use the following link below to pay via PayPal\nhttps://www.laurinakersten.com/events \nAnd feel free to call\, text or email me any questions ~ 0481 556 109\, Laurina.kersten@gmail.com \nFacilitator:\nLaurina is the founder of Well Woman Yoga. She works with women to use conscious body movement as a catalyst for providing deep inner nourishment. A passionate spiritual explorer\, Laurina is initiated into yoga as well as many women’s sacred dance traditions and has taught in Asian countries as well as Australia. \n*Cancellations made within 24 hours of the event are non-refundable* \nWarmly\, \nLaurina \nwww.laurinakersten.com \n\n\n\n\n\n\n\n\n\n\n\n\n\n\n\n\n\n\n\n\n\n\n\n\n\n\n\n\n\n\nFacebook\n\n\n\n\n\n\n\n\n\n\n\n\n\n\n\n\n\n\n\n\n\n\n\n\n\n\n\n\n\n\n“I wish to live a life that causes my soul to dance inside my body.”\n~ Dele Olanubi
URL:https://zen-space.com.au/event/body-bliss-restorative-yoga-mini-retreat-11-2/
LOCATION:Zen Space\, 225 Mount Glorious Road\, Samford Valley\, QLD\, 4520\, Australia
CATEGORIES:Restorative Yoga,Retreat,Yoga
ATTACH;FMTTYPE=image/jpeg:https://zen-space.com.au/wp-content/uploads/2018/08/38712089_10155421874516556_6563400671914098688_n.jpg
END:VEVENT
BEGIN:VEVENT
DTSTART;TZID=Australia/Melbourne:20181007T140000
DTEND;TZID=Australia/Melbourne:20181007T170000
DTSTAMP:20260426T022917
CREATED:20180916T232619Z
LAST-MODIFIED:20180916T232619Z
UID:2383-1538920800-1538931600@zen-space.com.au
SUMMARY:Body Bliss Restorative Yoga Mini Retreat
DESCRIPTION:Women\, come and feel deeply nourished from the inside out with this luscious\, bliss-filled class of comfortable nurturing poses\, guided meditation\, beautiful poetry and soothing music. \nRestorative yoga is one of the most beneficial modalities for women. It creates a cascade of wonderful effects that drastically reduce stress\, balance hormones\, help with weight reduction\, ease menstrual and menopause challenges\, and creates a deep sense of spaciousness to our otherwise busy lives. \nYou will leave this class feeling cleansed\, deeply nourished and ready for life ahead. \n~ Details ~\nSunday September 16\, 6pm – 9pm\nInvestment:\n$50 Early Bird (by September 30)\n$55 (by Ocotber 6)\n$60 (on the day if available)\nZen Space ~ located at 225 Mt Glorious Rd\, Samford \nTo confirm your place please send your direct deposit to:\nLaurina Kersten\, Westpac\nBSB 736-306 ACC no 66-5146 \nPlease insert your name & ‘BB7″ in the transfer & EMAIL ME so I have your contact details to send you full details ~ laurina.kersten@gmail.com \nAlternatively\, you can use the following link below to pay via PayPal\nwww.laurinakersten.com/events \nAnd feel free to call\, text or email me any questions ~ 0481 556 109\, Laurina.kersten@gmail.com \nFacilitator:\nLaurina is the founder of Well Woman Yoga. She works with women to use conscious body movement as a catalyst for providing deep inner nourishment. A passionate spiritual explorer\, Laurina is initiated into yoga as well as many women’s sacred dance traditions and has taught in Asian countries as well as Australia. \n*Cancellations made within 24 hours of the event are non-refundable*
URL:https://zen-space.com.au/event/body-bliss-restorative-yoga-mini-retreat-11/
LOCATION:Zen Space\, 225 Mount Glorious Road\, Samford Valley\, QLD\, 4520\, Australia
CATEGORIES:Meditation,Restorative Yoga,Retreat,Yoga
ATTACH;FMTTYPE=image/jpeg:https://zen-space.com.au/wp-content/uploads/2018/08/38712089_10155421874516556_6563400671914098688_n.jpg
END:VEVENT
BEGIN:VEVENT
DTSTART;TZID=Australia/Melbourne:20180826T140000
DTEND;TZID=Australia/Melbourne:20180826T170000
DTSTAMP:20260426T022917
CREATED:20180806T040920Z
LAST-MODIFIED:20180806T041128Z
UID:2311-1535292000-1535302800@zen-space.com.au
SUMMARY:Body Bliss Restorative Yoga Mini Retreat
DESCRIPTION:Women\, come and feel deeply nourished from the inside out with this luscious\, bliss-filled class of comfortable nurturing poses\, guided meditation\, beautiful poetry and soothing music.\n\n\nRestorative yoga is one of the most beneficial modalities for women. It creates a cascade of wonderful effects that drastically reduce stress\, balance hormones\, help with weight reduction\, ease menstrual and menopause challenges\, and creates a deep sense of spaciousness to our otherwise busy lives. \nYou will leave this class feeling cleansed\, deeply nourished and ready for life ahead. \n~ Details ~\nSunday August 26\, 2pm – 5pm\nInvestment: \n\n$50 Early Bird (by August 18)\n$55 (by August 25)\n$60 (on the day if available)\nZen Space ~ located at 225 Mt Glorious Rd\, SamfordTo confirm your place please send your direct deposit to:\nLaurina Kersten\, Westpac\nBSB 736-306 ACC no 66-5146 \nPlease insert your name & ‘BB26″ in the transfer & EMAIL ME so I have your contact details to send you full details ~ laurina.kersten@gmail.com \nAlternatively\, you can use the following link below to pay via PayPal\nhttps://www.laurinakersten.com/events \nAnd feel free to call\, text or email me any questions ~ 0481 556 109\, Laurina.kersten@gmail.com \nFacilitator:\nLaurina is the founder of Well Woman Yoga. She works with women to use conscious body movement as a catalyst for providing deep inner nourishment. A passionate spiritual explorer\, Laurina is initiated into yoga as well as many women’s sacred dance traditions and has taught in Asian countries as well as Australia. \n*Cancellations made within 24 hours of the event are non-refundable* \n\n\n\n\n\n\n\n\n\n\n\n\n\n\n\n\n\n\n\n\n\n\n\n\n\n\n\n\n\n\n\nWarmly\, \nLaurina\n\nwww.laurinakersten.com \n\nFacebook\n\n“I wish to live a life that causes my soul to dance inside my body.”\n~ Dele Olanubi
URL:https://zen-space.com.au/event/body-bliss-restorative-yoga-mini-retreat-10/
LOCATION:QLD
CATEGORIES:Restorative Yoga,Retreat,Women's Yoga,Yoga
ATTACH;FMTTYPE=image/jpeg:https://zen-space.com.au/wp-content/uploads/2018/08/38712089_10155421874516556_6563400671914098688_n.jpg
END:VEVENT
BEGIN:VEVENT
DTSTART;TZID=Australia/Brisbane:20180331T093000
DTEND;TZID=Australia/Brisbane:20180331T143000
DTSTAMP:20260426T022917
CREATED:20180321T041551Z
LAST-MODIFIED:20180807T023352Z
UID:2070-1522488600-1522506600@zen-space.com.au
SUMMARY:Nourishment Day - A Day for Women - Autumn - Metal Element
DESCRIPTION:As women we are often looking after others but are sometimes challenged to find time out for ourselves to refuel and self nourish. \nThis day is just for that. It’s for you\, to enjoy a mini retreat\, the company of other women\, home made chai and morning tea\, restorative yoga\, zen thai shiatsu and an optional shared lunch. \n$85 early bird – payment in full one week prior\n$100 full price – with $20 deposit one week prior to secure your place \nIf you haven’t done so before\, please fill out the Enrollment Form before booking.\nEnrollment Form (if you’re new) \nKate
URL:https://zen-space.com.au/event/nourishment-day-a-day-for-women-autumn-metal-element-easter-saturday/
LOCATION:Zen Space\, 225 Mt Glorious Rd\, Samford\, 4520\, AU
CATEGORIES:Restorative Yoga,Retreat,Yoga
END:VEVENT
END:VCALENDAR