BEGIN:VCALENDAR
VERSION:2.0
PRODID:-//Zen Space - ECPv6.15.20//NONSGML v1.0//EN
CALSCALE:GREGORIAN
METHOD:PUBLISH
X-WR-CALNAME:Zen Space
X-ORIGINAL-URL:https://zen-space.com.au
X-WR-CALDESC:Events for Zen Space
REFRESH-INTERVAL;VALUE=DURATION:PT1H
X-Robots-Tag:noindex
X-PUBLISHED-TTL:PT1H
BEGIN:VTIMEZONE
TZID:Australia/Brisbane
BEGIN:STANDARD
TZOFFSETFROM:+1000
TZOFFSETTO:+1000
TZNAME:AEST
DTSTART:20150101T000000
END:STANDARD
END:VTIMEZONE
BEGIN:VEVENT
DTSTART;TZID=Australia/Brisbane:20170215T193000
DTEND;TZID=Australia/Brisbane:20170215T204500
DTSTAMP:20260426T033653
CREATED:20170202T095010Z
LAST-MODIFIED:20170202T095010Z
UID:817-1487187000-1487191500@zen-space.com.au
SUMMARY:'Hump Day' restorative yoga with Janie
DESCRIPTION:You are invited to meet Janie for a free class and open night. Unwind through a gentle asana practice\, tuning in to mind\, body and breath. This class will replenish energy reserves to carry you through to the end of the week! Come as you are and prepare to ‘be’ rather than ‘do’. All welcome.
URL:https://zen-space.com.au/event/hump-day-restorative-yoga/
LOCATION:Zen Space\, 225 Mt Glorious Rd\, Samford\, QLD\, 4520\, Australia
CATEGORIES:Restorative Yoga
END:VEVENT
BEGIN:VEVENT
DTSTART;TZID=Australia/Brisbane:20170122T100000
DTEND;TZID=Australia/Brisbane:20170122T130000
DTSTAMP:20260426T033653
CREATED:20170104T022726Z
LAST-MODIFIED:20170104T022726Z
UID:458-1485079200-1485090000@zen-space.com.au
SUMMARY:Body Bliss Restorative Yoga Mini Retreat
DESCRIPTION:Come and feel deeply nourished from the inside out with a luscious\, bliss-filled class of comfortable nurturing poses\, guided meditation\, beautiful poetry and soothing music. \nRestorative yoga is one of the most beneficial modalities for women. It creates a cascade of wonderful effects that drastically reduce stress\, balance hormones\, help with weight reduction\, ease menstrual and menopause challenges\, and creates a deep sense of spaciousness to our otherwise busy lives. \nYou will leave this class feeling cleansed\, deeply nourished and ready to for life ahead. \n~ Details ~\nSunday 22nd of Janurary\, 10am ~ 1pm\nInvestment : $50 (by Janurary 14) $55 (by Janurary 21) $60 (on the day if available)\nZen Space ~ located at 225 Mt Glorious Rd\, Samford \nTo confirm your place please send your direct deposit to:\nLaurina Kersten\, Westpac\nBSB 736-306 ACC no 66-5146\nPlease insert your name & ‘BB22″ in the transfer & EMAIL ME so I have your contact details to send you full details ~ laurina.kersten@gmail.com \nAlternatively you can use the following link below to pay via paypal\nhttp://www.laurinakersten.com/#!events/cr5g\nAnd feel free to call\, text or email me any questions ~ 0481 556 109\, Laurina.kersten@gmail.com \nFacilitator:\nLaurina is the founder of Well Woman Yoga. She works with women to use conscious body movement as a catalyst for providing deep inner nourishment. A passionate spiritual explorer\, Laurina is initiated into yoga as well as many women’s sacred dance traditions and has taught in Asian countries as well as Australia.
URL:https://zen-space.com.au/event/body-bliss-restorative-yoga-mini-retreat-2/
LOCATION:Zen Space\, 225 Mt Glorious Rd\, Samford\, QLD\, 4520\, Australia
CATEGORIES:Restorative Yoga,Yoga
ATTACH;FMTTYPE=image/jpeg:https://zen-space.com.au/wp-content/uploads/2017/01/15219975_10153898506896556_2511551493804714475_n.jpg
END:VEVENT
BEGIN:VEVENT
DTSTART;TZID=Australia/Brisbane:20170108T100000
DTEND;TZID=Australia/Brisbane:20170108T130000
DTSTAMP:20260426T033653
CREATED:20170104T022446Z
LAST-MODIFIED:20170104T022446Z
UID:455-1483869600-1483880400@zen-space.com.au
SUMMARY:Body Bliss Restorative Yoga Mini Retreat
DESCRIPTION:Come and feel deeply nourished from the inside out with a luscious\, bliss-filled class of comfortable nurturing poses\, guided meditation\, beautiful poetry and soothing music. \nRestorative yoga is one of the most beneficial modalities for women. It creates a cascade of wonderful effects that drastically reduce stress\, balance hormones\, help with weight reduction\, ease menstrual and menopause challenges\, and creates a deep sense of spaciousness to our otherwise busy lives. \nYou will leave this class feeling cleansed\, deeply nourished and ready to for life ahead. \n~ Details ~\nSunday 8th Janurary\, 10am ~ 1pm\nInvestment : $50 (by Janurary 14) $55 (by Janurary 21) $60 (on the day if available)\nZen Space ~ located at 225 Mt Glorious Rd\, Samford \nTo confirm your place please send your direct deposit to:\nLaurina Kersten\, Westpac\nBSB 736-306 ACC no 66-5146\nPlease insert your name & ‘BB4″ in the transfer & EMAIL ME so I have your contact details to send you full details ~ laurina.kersten@gmail.com \nAlternatively you can use the following link below to pay via paypal\nhttp://www.laurinakersten.com/#!events/cr5g\nAnd feel free to call\, text or email me any questions ~ 0481 556 109\, Laurina.kersten@gmail.com \nFacilitator:\nLaurina is the founder of Well Woman Yoga. She works with women to use conscious body movement as a catalyst for providing deep inner nourishment. A passionate spiritual explorer\, Laurina is initiated into yoga as well as many women’s sacred dance traditions and has taught in Asian countries as well as Australia.
URL:https://zen-space.com.au/event/body-bliss-restorative-yoga-mini-retreat/
LOCATION:Zen Space\, 225 Mt Glorious Rd\, Samford\, QLD\, 4520\, Australia
CATEGORIES:Restorative Yoga,Yoga
ATTACH;FMTTYPE=image/jpeg:https://zen-space.com.au/wp-content/uploads/2017/01/15219975_10153898506896556_2511551493804714475_n.jpg
END:VEVENT
BEGIN:VEVENT
DTSTART;TZID=Australia/Brisbane:20160629T093000
DTEND;TZID=Australia/Brisbane:20160629T160000
DTSTAMP:20260426T033653
CREATED:20160606T145417Z
LAST-MODIFIED:20160606T145417Z
UID:129-1467192600-1467216000@zen-space.com.au
SUMMARY:Nourishment Day - A Day for Women - June
DESCRIPTION:As women we are often looking after others but are sometimes challenged to find time out for ourselves to refuel and self nourish. \nThis day is just for that. It’s for you\, to enjoy a mini retreat\, the company of other women\, home made chai and morning tea\, restorative yoga\, zen thai shiatsu and an optional shared lunch. \nThis will be a monthly offering so if you like the sound of it but can’t make this month – no worries! It’ll be offered again in each month. \n$75 early bird – payment in full one week prior\n$85 full price – with $20 deposit one week prior to secure your place \nFull text\nAs women we are often looking after others but typically not taking time out for ourselves to refuel and self nourish. This day is just for that. It’s for you\, to enjoy a mountain retreat\, the company of other women\, home made chai and morning tea\, yoga chi gung\, zen thai shiatsu bodywork and an optional shared lunch. Move\, breathe\, nourish your whole being. \nWe gather monthly on a weekday near the new moon in a bush setting. Take a break from work and restore your vitality. These workshops typically run from 9.30 (after the school run) to 1pm. Followed by an optional shared lunch. If you like the sound of it but can’t make this month – no worries! It’ll be offered again each month……I’m looking forward to sharing it with you. \nA note from previous participants of the Nourishment day: \n“Thank you sweet for a wonderful day on Friday\, recommend the Nourishment day for women to every lady that needs to spend a little time looking after herself. Thanks again Kate xxx.”\nSue\, Pomona. \n“Kate’s Nourishment Days are a must for every woman. Nestled in the side of a mountain\, looking over the forest\, Kate guides you back into your body and your heart through her powers of Yoga Qi Gong\, Zen Thai\, chanting and sacred women’s space. I felt my being let out a sigh of relief as Kate lovingly held a space for me to connect deeply within myself and together as a group. These days should be a regular practice for every mother\, business woman and creative soul.” \nMelissa Sandon\nkinesiologist\, coach & energy medicine specialist\nwww.melissasandon.com \n“I went to Nourishment: a day for women to reconnect with stillness and that place where nothing needs to be done. Though I practice yoga regularly\, it reminded me how good it is to slow down\, breathe\, enjoy moving my body and spend time with other women in a relaxing\, low-pressure environment. There’s no heavy spiritual teachings or dogma here so it’s a place for every woman to come and be nourished regardless of her age\, yoga experience and physical flexibility. Kate holds a clear space of love with much skill and grounding in the beauty and necessity of simple pleasures and self-care.” \n– Mirror Living
URL:https://zen-space.com.au/event/nourishment-day-a-day-for-women-june/
LOCATION:Zen Space\, 225 Mt Glorious Rd\, Samford\, QLD\, 4520\, Australia
CATEGORIES:Restorative Yoga,Women's Yoga,Yoga
ORGANIZER;CN="Kate Barzdo":MAILTO:zenthaipinky@gmail.com
END:VEVENT
BEGIN:VEVENT
DTSTART;TZID=Australia/Brisbane:20160629T093000
DTEND;TZID=Australia/Brisbane:20160629T160000
DTSTAMP:20260426T033653
CREATED:20160606T145417Z
LAST-MODIFIED:20160606T145417Z
UID:516-1467192600-1467216000@zen-space.com.au
SUMMARY:Nourishment Day - A Day for Women - June
DESCRIPTION:As women we are often looking after others but are sometimes challenged to find time out for ourselves to refuel and self nourish. \nThis day is just for that. It’s for you\, to enjoy a mini retreat\, the company of other women\, home made chai and morning tea\, restorative yoga\, zen thai shiatsu and an optional shared lunch. \nThis will be a monthly offering so if you like the sound of it but can’t make this month – no worries! It’ll be offered again in each month. \n$75 early bird – payment in full one week prior\n$85 full price – with $20 deposit one week prior to secure your place \nFull text\nAs women we are often looking after others but typically not taking time out for ourselves to refuel and self nourish. This day is just for that. It’s for you\, to enjoy a mountain retreat\, the company of other women\, home made chai and morning tea\, yoga chi gung\, zen thai shiatsu bodywork and an optional shared lunch. Move\, breathe\, nourish your whole being. \nWe gather monthly on a weekday near the new moon in a bush setting. Take a break from work and restore your vitality. These workshops typically run from 9.30 (after the school run) to 1pm. Followed by an optional shared lunch. If you like the sound of it but can’t make this month – no worries! It’ll be offered again each month……I’m looking forward to sharing it with you. \nA note from previous participants of the Nourishment day: \n“Thank you sweet for a wonderful day on Friday\, recommend the Nourishment day for women to every lady that needs to spend a little time looking after herself. Thanks again Kate xxx.”\nSue\, Pomona. \n“Kate’s Nourishment Days are a must for every woman. Nestled in the side of a mountain\, looking over the forest\, Kate guides you back into your body and your heart through her powers of Yoga Qi Gong\, Zen Thai\, chanting and sacred women’s space. I felt my being let out a sigh of relief as Kate lovingly held a space for me to connect deeply within myself and together as a group. These days should be a regular practice for every mother\, business woman and creative soul.” \nMelissa Sandon\nkinesiologist\, coach & energy medicine specialist\nwww.melissasandon.com \n“I went to Nourishment: a day for women to reconnect with stillness and that place where nothing needs to be done. Though I practice yoga regularly\, it reminded me how good it is to slow down\, breathe\, enjoy moving my body and spend time with other women in a relaxing\, low-pressure environment. There’s no heavy spiritual teachings or dogma here so it’s a place for every woman to come and be nourished regardless of her age\, yoga experience and physical flexibility. Kate holds a clear space of love with much skill and grounding in the beauty and necessity of simple pleasures and self-care.” \n– Mirror Living
URL:https://zen-space.com.au/event/nourishment-day-a-day-for-women-june-2/
LOCATION:Zen Space\, 225 Mt Glorious Rd\, Samford\, QLD\, 4520\, Australia
CATEGORIES:Restorative Yoga,Women's Yoga,Yoga
ORGANIZER;CN="Kate Barzdo":MAILTO:zenthaipinky@gmail.com
END:VEVENT
END:VCALENDAR