BEGIN:VCALENDAR
VERSION:2.0
PRODID:-//Zen Space - ECPv6.15.20//NONSGML v1.0//EN
CALSCALE:GREGORIAN
METHOD:PUBLISH
X-WR-CALNAME:Zen Space
X-ORIGINAL-URL:https://zen-space.com.au
X-WR-CALDESC:Events for Zen Space
REFRESH-INTERVAL;VALUE=DURATION:PT1H
X-Robots-Tag:noindex
X-PUBLISHED-TTL:PT1H
BEGIN:VTIMEZONE
TZID:Australia/Melbourne
BEGIN:STANDARD
TZOFFSETFROM:+1100
TZOFFSETTO:+1000
TZNAME:AEST
DTSTART:20170401T160000
END:STANDARD
BEGIN:DAYLIGHT
TZOFFSETFROM:+1000
TZOFFSETTO:+1100
TZNAME:AEDT
DTSTART:20170930T160000
END:DAYLIGHT
BEGIN:STANDARD
TZOFFSETFROM:+1100
TZOFFSETTO:+1000
TZNAME:AEST
DTSTART:20180331T160000
END:STANDARD
BEGIN:DAYLIGHT
TZOFFSETFROM:+1000
TZOFFSETTO:+1100
TZNAME:AEDT
DTSTART:20181006T160000
END:DAYLIGHT
BEGIN:STANDARD
TZOFFSETFROM:+1100
TZOFFSETTO:+1000
TZNAME:AEST
DTSTART:20190406T160000
END:STANDARD
BEGIN:DAYLIGHT
TZOFFSETFROM:+1000
TZOFFSETTO:+1100
TZNAME:AEDT
DTSTART:20191005T160000
END:DAYLIGHT
END:VTIMEZONE
BEGIN:VTIMEZONE
TZID:Australia/Brisbane
BEGIN:STANDARD
TZOFFSETFROM:+1000
TZOFFSETTO:+1000
TZNAME:AEST
DTSTART:20150101T000000
END:STANDARD
END:VTIMEZONE
BEGIN:VEVENT
DTSTART;TZID=Australia/Melbourne:20181218T130000
DTEND;TZID=Australia/Melbourne:20181218T153000
DTSTAMP:20260423T233345
CREATED:20181122T014644Z
LAST-MODIFIED:20181122T014644Z
UID:2489-1545138000-1545147000@zen-space.com.au
SUMMARY:Calm\, Cool and Collected Kids Summer Playshop
DESCRIPTION:Join us for a celebration and reflection of 2018 and the start of the summer fun. Games\, Yoga\, Deep relaxation\, Play\, Craft. \n  \nTuesday 18th December 1-3.30pm.\nInvestment: $30 per child\nZen Space Samford \n  \nContact Kathryn on 0434237397 \nor \nwww.bluelotuskidsyoga.com.au
URL:https://zen-space.com.au/event/calm-cool-and-collected-kids-summer-playshop/
LOCATION:Zen Space\, 225 Mount Glorious Road\, Samford Valley\, QLD\, 4520\, Australia
CATEGORIES:Kids,Yoga
END:VEVENT
BEGIN:VEVENT
DTSTART;TZID=Australia/Melbourne:20180712T130000
DTEND;TZID=Australia/Melbourne:20180712T153000
DTSTAMP:20260423T233345
CREATED:20180614T204149Z
LAST-MODIFIED:20180614T204306Z
UID:2241-1531400400-1531409400@zen-space.com.au
SUMMARY:July School Holidays - Kids Yoga Playshop (5-12yrs)
DESCRIPTION:Rested\, peaceful & happy children\nJuly School Holidays – Kids Yoga Playshop (5-12yrs)\nJoin us for this extended yoga practice where we explore ways to relax deeply\, move freely and connect well with others through yoga\, breath work\, relaxation\, games and more \nTo book\nwww.bluelotuskidsyoga.com.au\nor call Kathryn on 0434237397 \nInvestment $30 per child
URL:https://zen-space.com.au/event/july-school-holidays-kids-yoga-playshop-5-12yrs/
LOCATION:Zen Space\, 225 Mt Glorious Rd\, Samford\, QLD\, 4520\, Australia
CATEGORIES:Kids
END:VEVENT
BEGIN:VEVENT
DTSTART;TZID=Australia/Brisbane:20180412T130000
DTEND;TZID=Australia/Brisbane:20180412T153000
DTSTAMP:20260423T233345
CREATED:20180410T054915Z
LAST-MODIFIED:20180410T054915Z
UID:2123-1523538000-1523547000@zen-space.com.au
SUMMARY:Easter Holidays Kids Yoga Playshop Age 5-13yrs
DESCRIPTION:
URL:https://zen-space.com.au/event/easter-holidays-kids-yoga-playshop-age-5-13yrs/
LOCATION:Zen Space\, 225 Mt Glorious Rd\, Samford\, QLD\, 4520\, Australia
CATEGORIES:Kids,Yoga
END:VEVENT
BEGIN:VEVENT
DTSTART;TZID=Australia/Brisbane:20180213T163000
DTEND;TZID=Australia/Brisbane:20180213T173000
DTSTAMP:20260423T233345
CREATED:20180119T082220Z
LAST-MODIFIED:20180119T082220Z
UID:1979-1518539400-1518543000@zen-space.com.au
SUMMARY:Kids' yoga 8-12 yrs
DESCRIPTION:Kick 2018 off for your children with yoga that will grow their social and personal confidence\, help them to successfully manage their emotions for calm and peace\, whilst developing healthy strong bodies and minds with fun active movement. \nTerm 1 2018 13th February- 27th March \nTuesday 4.30-5.30\n(pre-teens 8-12yrs)\nterm investment: $91\, casual: $17 \n(Also see kids 4-7 yrs) \nTo book or for more info \nContact Kathryn on 0434237397\nor via the web www.bluelotuskidsyoga.com.au\nor email at info@bluelotuskidsyoga.com.au
URL:https://zen-space.com.au/event/kids-yoga-8-12-yrs/
LOCATION:Zen Space\, 225 Mt Glorious Rd\, Samford\, 4520\, AU
CATEGORIES:Kids
END:VEVENT
BEGIN:VEVENT
DTSTART;TZID=Australia/Brisbane:20180213T153000
DTEND;TZID=Australia/Brisbane:20180213T161500
DTSTAMP:20260423T233345
CREATED:20180119T081828Z
LAST-MODIFIED:20180119T081828Z
UID:1976-1518535800-1518538500@zen-space.com.au
SUMMARY:Kids' yoga 4-7 yrs
DESCRIPTION:Kick 2018 off for your children with yoga that will grow their social and personal confidence\, help them to successfully manage their emotions for calm and peace\, whilst developing healthy strong bodies and minds with fun active movement. \nTerm 1 2018 13th February- 27th March \nTuesday 3.30-4.15\n(kids 4-7yrs)\nterm investment: $84\, casual: $15 \n(Also see kids 8-12 yrs) \nTo book or for more info \nContact Kathryn on 0434237397\nor via the web www.bluelotuskidsyoga.com.au\nor email at info@bluelotuskidsyoga.com.au
URL:https://zen-space.com.au/event/kids-yoga-4-7-yrs/
LOCATION:Zen Space\, 225 Mt Glorious Rd\, Samford\, 4520\, AU
CATEGORIES:Kids
END:VEVENT
BEGIN:VEVENT
DTSTART;TZID=Australia/Brisbane:20180210T093000
DTEND;TZID=Australia/Brisbane:20180210T143000
DTSTAMP:20260423T233345
CREATED:20180118T100349Z
LAST-MODIFIED:20180118T100349Z
UID:1958-1518255000-1518273000@zen-space.com.au
SUMMARY:Zen Space Open Day - Feb 2018!
DESCRIPTION:Welcome to our annual Open Day @ Zen Space. \nEveryone welcome\, all classes free. \n9.00 – Arrival & Registration\n9.15 – Beginners Yoga with Deb & Mieke\n10.00 – Iyengar Yoga with Camille\n10.45 – Yoga for Kids & Teens with Kathryn & Siobhan\n11.30 – Yoga Mums & Bubs with Kim\n12.15 – Yoga for Anxiety & Depression with Nat\n1:00 – Introduction to Meditation with Marie\n1.30 – Intro to Zenthai Partner Massage with Kate 2:00 – Restorative with Wen + live music with Kate 2.30 – Finish \nCome and meet the teachers\, take some classes\, grab a Zenthai Shiatsu treatment\, enjoy a chai & lunch & soak up the sun on the deck!
URL:https://zen-space.com.au/event/zen-space-open-day-feb-2018/
LOCATION:Zen Space\, 225 Mt Glorious Rd\, Samford\, 4520\, AU
CATEGORIES:Kids,Meditation,Restorative Yoga,Yoga,Zenthai
END:VEVENT
BEGIN:VEVENT
DTSTART;TZID=Australia/Brisbane:20170120T110000
DTEND;TZID=Australia/Brisbane:20170120T123000
DTSTAMP:20260423T233345
CREATED:20161205T012939Z
LAST-MODIFIED:20161205T012939Z
UID:180-1484910000-1484915400@zen-space.com.au
SUMMARY:Summer Holiday Kids Yoga 8-12 yrs
DESCRIPTION:Buy a ticket for this
URL:https://zen-space.com.au/event/summer-holiday-kids-yoga-8-12-yrs-2/
LOCATION:Zen Space\, 225 Mt Glorious Rd\, Samford\, QLD\, 4520\, Australia
CATEGORIES:Kids,Yoga
END:VEVENT
BEGIN:VEVENT
DTSTART;TZID=Australia/Brisbane:20170117T110000
DTEND;TZID=Australia/Brisbane:20170117T120000
DTSTAMP:20260423T233345
CREATED:20161205T012725Z
LAST-MODIFIED:20161205T012725Z
UID:176-1484650800-1484654400@zen-space.com.au
SUMMARY:Summer Holiday Kids Yoga 4-7 yrs
DESCRIPTION:
URL:https://zen-space.com.au/event/summer-holiday-kids-yoga-4-7-yrs-2/
LOCATION:QLD
CATEGORIES:Kids,Yoga
END:VEVENT
BEGIN:VEVENT
DTSTART;TZID=Australia/Brisbane:20161216T110000
DTEND;TZID=Australia/Brisbane:20161216T123000
DTSTAMP:20260423T233345
CREATED:20161205T012839Z
LAST-MODIFIED:20161205T012839Z
UID:177-1481886000-1481891400@zen-space.com.au
SUMMARY:Summer Holiday Kids Yoga 8-12 yrs
DESCRIPTION:Summer holiday yoga fun for yogis to breathe deep\, relax\, enjoy yoga poses\, yoga games\, music\, creative arts and quality time spent with other children in a safe\, supportive\, caring environment. with Kathyrn from Blue Lotus Kids Yoga. $18
URL:https://zen-space.com.au/event/summer-holiday-kids-yoga-8-12-yrs/
LOCATION:Zen Space\, 225 Mt Glorious Rd\, Samford\, QLD\, 4520\, Australia
CATEGORIES:Kids,Yoga
END:VEVENT
BEGIN:VEVENT
DTSTART;TZID=Australia/Brisbane:20161213T110000
DTEND;TZID=Australia/Brisbane:20161213T120000
DTSTAMP:20260423T233345
CREATED:20161205T012428Z
LAST-MODIFIED:20161205T012428Z
UID:173-1481626800-1481630400@zen-space.com.au
SUMMARY:Summer Holiday Kids Yoga 4-7 yrs
DESCRIPTION:Summer holiday yoga fun for yogis to breathe deep\, relax\, enjoy yoga poses\, yoga games\, music\, creative arts and quality time spent with other children in a safe\, supportive\, caring environment. with Kathryn from Blue Lotus Kids Yoga. $16 \n 
URL:https://zen-space.com.au/event/summer-holiday-kids-yoga-4-7-yrs/
LOCATION:QLD
CATEGORIES:Kids,Yoga
END:VEVENT
BEGIN:VEVENT
DTSTART;TZID=Australia/Brisbane:20161213T110000
DTEND;TZID=Australia/Brisbane:20161213T120000
DTSTAMP:20260423T233345
CREATED:20161205T012428Z
LAST-MODIFIED:20161205T012428Z
UID:521-1481626800-1481630400@zen-space.com.au
SUMMARY:Summer Holiday Kids Yoga 4-7 yrs
DESCRIPTION:Summer holiday yoga fun for yogis to breathe deep\, relax\, enjoy yoga poses\, yoga games\, music\, creative arts and quality time spent with other children in a safe\, supportive\, caring environment. with Kathryn from Blue Lotus Kids Yoga. $16 \n 
URL:https://zen-space.com.au/event/summer-holiday-kids-yoga-4-7-yrs-3/
LOCATION:QLD
CATEGORIES:Kids,Yoga
END:VEVENT
END:VCALENDAR