BEGIN:VCALENDAR
VERSION:2.0
PRODID:-//Zen Space - ECPv6.15.20//NONSGML v1.0//EN
CALSCALE:GREGORIAN
METHOD:PUBLISH
X-WR-CALNAME:Zen Space
X-ORIGINAL-URL:https://zen-space.com.au
X-WR-CALDESC:Events for Zen Space
REFRESH-INTERVAL;VALUE=DURATION:PT1H
X-Robots-Tag:noindex
X-PUBLISHED-TTL:PT1H
BEGIN:VTIMEZONE
TZID:Australia/Brisbane
BEGIN:STANDARD
TZOFFSETFROM:+1000
TZOFFSETTO:+1000
TZNAME:AEST
DTSTART:20160101T000000
END:STANDARD
END:VTIMEZONE
BEGIN:VEVENT
DTSTART;TZID=Australia/Brisbane:20180106T091500
DTEND;TZID=Australia/Brisbane:20180106T103000
DTSTAMP:20260424T071416
CREATED:20171207T064007Z
LAST-MODIFIED:20171207T064007Z
UID:1789-1515230100-1515234600@zen-space.com.au
SUMMARY:Beginners Yoga Course 2018 - Sat with Deb
DESCRIPTION:Been meaning to do some yoga for a while? Or you’re ready for a refresher? Then this one is for you! Perfect for beginners\, these gentle classes combine Yoga & Meditation to stretch\, strengthen and relax create stillness in the mind and restore life force and balance. No need to bring anything\, the studio has everything you need. \nBook online now to secure your place for 2018 and take your first steps towards a healthier & more relaxed state of being! Or if you’re ready now\, call Kate to jump into the current course – that’s easy! \nContact Kate on 0418 617 451 if you need further details. \n$180\, or special price $160 if booked by 31 Dec! \nIf you haven’t done so before\, please fill out the Enrollment Form before booking. \nEnrollment Form (if you’re new) \nBook
URL:https://zen-space.com.au/event/beginners-yoga-courses-deb-sat/
LOCATION:Zen Space\, 225 Mt Glorious Rd\, Samford\, 4520\, AU
CATEGORIES:Beginners,Class Series,Yoga
END:VEVENT
BEGIN:VEVENT
DTSTART;TZID=Australia/Brisbane:20171010T180000
DTEND;TZID=Australia/Brisbane:20171010T191500
DTSTAMP:20260424T071416
CREATED:20170920T054640Z
LAST-MODIFIED:20170920T054640Z
UID:1484-1507658400-1507662900@zen-space.com.au
SUMMARY:Beginners Yoga Course\, Tuesdays from October 10
DESCRIPTION:Been meaning to do some yoga for a while? Or you’re ready for a refresher? Then this one is for you! Perfect for beginners\, these gentle classes combine Yoga & Meditation to stretch\, strengthen and relax create stillness in the mind and restore life force and balance. No need to bring anything\, the studio has everything you need. \nContact Kate to secure your place and take your first steps towards a healthier & more relaxed state of being! Or if you’re ready now\, call Kate to jump into the current course – that’s easy! \nContact Kate on 0418 617 451 for further details. \nBook for course \nIF YOU’RE NEW to Zen Space\, please also do this: \nEnrolment Form  \n 
URL:https://zen-space.com.au/event/beginners-yoga-courses-tues-pm-10-weeks/
LOCATION:Zen Space\, 225 Mt Glorious Rd\, Samford\, 4520\, AU
CATEGORIES:Beginners,Yoga
END:VEVENT
BEGIN:VEVENT
DTSTART;TZID=Australia/Brisbane:20171005T093000
DTEND;TZID=Australia/Brisbane:20171005T104500
DTSTAMP:20260424T071416
CREATED:20170920T060533Z
LAST-MODIFIED:20170920T060533Z
UID:1492-1507195800-1507200300@zen-space.com.au
SUMMARY:Beginners Yoga Course\, Thursdays from 5 Oct
DESCRIPTION:Been meaning to do some yoga for a while? Or you’re ready for a refresher? Then this one is for you! Perfect for beginners\, these gentle classes combine Yoga & Meditation to stretch\, strengthen and relax create stillness in the mind and restore life force and balance. No need to bring anything\, the studio has everything you need. \nContact Kate to secure your place and take your first steps towards a healthier & more relaxed state of being! Or if you’re ready now\, call Kate to jump into the current course – that’s easy! \nContact Kate on 0418 617 451 for further details. \nBook for course \nIF YOU’RE NEW to Zen Space\, please also do this: \nEnrolment Form  \n 
URL:https://zen-space.com.au/event/beginners-yoga-courses-thursdays/
LOCATION:Zen Space\, 225 Mt Glorious Rd\, Samford\, 4520\, AU
CATEGORIES:Beginners,Yoga
END:VEVENT
BEGIN:VEVENT
DTSTART;TZID=Australia/Brisbane:20170904T093000
DTEND;TZID=Australia/Brisbane:20170904T101500
DTSTAMP:20260424T071416
CREATED:20170820T120245Z
LAST-MODIFIED:20170820T120245Z
UID:1413-1504517400-1504520100@zen-space.com.au
SUMMARY:Beginners Yoga Course - Mondays from 4 Sept
DESCRIPTION:Yoga and Meditation is good for everyone. Through Yoga you gain strength\, energy and zest for life. Experience gentle postures; stretches and strengthening exercises\, breathing practices and short meditations. You will feel refreshed and calm after each class. \n8 Week courses in Samford Valley: \nMondays 9.30am from 4th SEPT \nTuesdays 6pm from 3rd OCT \nWednesdays 6pm from 13th SEPT \n$160 OR 2 Beginners session/ week for $ 210!  (use coupon code “buytwo” at checkout)\nBook \nQuestions? Contact Kate on: 0418 617 451 \n 
URL:https://zen-space.com.au/event/beginners-yoga-course-mondays-from-4-sept/
LOCATION:Zen Space\, 225 Mt Glorious Rd\, Samford\, QLD\, 4520\, Australia
CATEGORIES:Beginners,Yoga
END:VEVENT
BEGIN:VEVENT
DTSTART;TZID=Australia/Brisbane:20170820T100000
DTEND;TZID=Australia/Brisbane:20170820T130000
DTSTAMP:20260424T071416
CREATED:20170726T092607Z
LAST-MODIFIED:20170726T092607Z
UID:1248-1503223200-1503234000@zen-space.com.au
SUMMARY:Body Bliss Aug 20
DESCRIPTION:Come and feel deeply nourished from the inside out with a luscious\, bliss-filled class of comfortable nurturing poses\, guided meditation\, beautiful poetry and soothing music. \nRestorative yoga is one of the most beneficial modalities for women. It creates a cascade of wonderful effects that drastically reduce stress\, balance hormones\, help with weight reduction\, ease menstrual and menopause challenges\, and creates a deep sense of spaciousness to our otherwise busy lives. \nYou will leave this class feeling cleansed\, deeply nourished and ready to for life ahead. \n~ Details ~ \nSunday Aug 20​\, 10am ~ 1pm\nInvestment $50 (Early Bird\, pay by August 12​)\, $55 (by August 19)\, $60 (on the day if available) \nTo confirm your place please send your direct deposit to: Laurina Kersten\, Westpac BSB 736-306 ACC no 66-5146 Please insert your name & ‘BB 20″ in the transfer & EMAIL ME so I have your contact details to send you full details ~ Laurina.Kersten@gmail.com \nAlternatively you can use the following link below to pay via paypal at www.laurinakersten.com/events \nAnd feel free to call\, text or email me any questions ~ 0481 556 109\, Laurina.kersten@gmail.com \nFacilitator: Laurina is the founder of Well Woman Yoga. She works with women to use conscious body movement as a catalyst for providing deep inner nourishment. A passionate spiritual explorer\, Laurina is initiated into yoga as well as many women’s sacred dance traditions and has taught in Asian countries as well as Australia. \nWith love\,\nLaurina \nwww.laurinakersten.com \nFacebook page \n“I wish to live a life that causes my soul to dance inside my body.” ~ Dele Olanubi
URL:https://zen-space.com.au/event/body-bliss-aug-20/
LOCATION:Zen Space\, 225 Mt Glorious Rd\, Samford\, 4520\, AU
CATEGORIES:Beginners,Restorative Yoga,Women's Yoga,Yoga
END:VEVENT
BEGIN:VEVENT
DTSTART;TZID=Australia/Brisbane:20170711T180000
DTEND;TZID=Australia/Brisbane:20170711T191500
DTSTAMP:20260424T071416
CREATED:20170628T110519Z
LAST-MODIFIED:20170628T110519Z
UID:1171-1499796000-1499800500@zen-space.com.au
SUMMARY:Beginners 1 & 2: Yoga Course - Winter Special - Tuesdays with Kate
DESCRIPTION:Been meaning to do some yoga for a while? Or you’ve had a break and you’re ready for a refresher? Then this one is for you! Perfect for beginners\, these gentle classes combine Yoga & Meditation to stretch\, strengthen and relax create stillness in the mind and restore life force and balance. No need to bring anything\, the studio has everything you need. Beginners 1 will start you on your journey\, Beginners 2 invites you to deepen the practice (open to those with some yoga experience).\nContact Kate to secure your place and take your first steps towards a healthier & more relaxed state of being! \n$150 for 10 weeks. \nBook for course \nContact Kate on: 0418 617 451\nzenspacesamford@gmail.com
URL:https://zen-space.com.au/event/beginners-1-2-yoga-course-winter-special-kate/
LOCATION:Zen Space\, 225 Mt Glorious Rd\, Samford\, 4520\, AU
CATEGORIES:Beginners,Yoga
ATTACH;FMTTYPE=image/jpeg:https://zen-space.com.au/wp-content/uploads/2017/06/Beginners-Course-3-.jpg
END:VEVENT
BEGIN:VEVENT
DTSTART;TZID=Australia/Brisbane:20170710T090000
DTEND;TZID=Australia/Brisbane:20170710T101500
DTSTAMP:20260424T071416
CREATED:20170628T105445Z
LAST-MODIFIED:20170628T105445Z
UID:1160-1499677200-1499681700@zen-space.com.au
SUMMARY:Beginners 1 & 2: Yoga Course - Winter Special - Mondays with Kirsty
DESCRIPTION:Been meaning to do some yoga for a while? Or you’ve had a break and you’re ready for a refresher? Then this one is for you! Perfect for beginners\, these gentle classes combine Yoga & Meditation to stretch\, strengthen and relax create stillness in the mind and restore life force and balance. No need to bring anything\, the studio has everything you need. Beginners 1 will start you on your journey\, Beginners 2 invites you to deepen the practice (open to those with some yoga experience).\nContact Kate to secure your place and take your first steps towards a healthier & more relaxed state of being! \n$150 for 10 weeks. \nBook for course \nContact Kate on: 0418 617 451\nzenspacesamford@gmail.com
URL:https://zen-space.com.au/event/beginners-1-2-yoga-course-winter-special/
LOCATION:Zen Space\, 225 Mt Glorious Rd\, Samford\, 4520\, AU
CATEGORIES:Beginners,Yoga
ATTACH;FMTTYPE=image/jpeg:https://zen-space.com.au/wp-content/uploads/2017/06/Beginners-Course-3-.jpg
END:VEVENT
BEGIN:VEVENT
DTSTART;TZID=Australia/Brisbane:20170708T093000
DTEND;TZID=Australia/Brisbane:20170708T180000
DTSTAMP:20260424T071416
CREATED:20170622T092013Z
LAST-MODIFIED:20170622T092013Z
UID:1139-1499506200-1499536800@zen-space.com.au
SUMMARY:Open Day - All Classes FREE!!!
DESCRIPTION:9.30am – Introduction to Meditation with Marie\n10am – Introduction to Yoga with Shivjyoti\n11am – Yoga for kids (5-12) with Kathryn\n12pm – General Hatha with Mieke\n1pm – Ayurvedic Lunch & Chai available from\nLeon @ the Yoga Sanctuary (or BYO lunch)\n2pm – Vinyasa Flow with Kirsty\n3pm – Align and Release with Wendy\n4pm – Restorative Yoga with Laurina\nwith Live Music from Kate B \nPLUS: Zenthai treatments on the deck & Chai available!
URL:https://zen-space.com.au/event/open-day-all-classes-free/
LOCATION:Zen Space\, 225 Mt Glorious Rd\, Samford\, 4520\, AU
CATEGORIES:Beginners,Community ZenThai,Music,Restorative Yoga,Yoga
END:VEVENT
BEGIN:VEVENT
DTSTART;TZID=Australia/Brisbane:20170603T080000
DTEND;TZID=Australia/Brisbane:20170603T093000
DTSTAMP:20260424T071416
CREATED:20170525T075647Z
LAST-MODIFIED:20170525T075647Z
UID:1103-1496476800-1496482200@zen-space.com.au
SUMMARY:Beginners 1 & 2: Yoga Course with Mieke
DESCRIPTION:Been meaning to do some yoga for a while? Or you’ve had a break and you’re ready for a refresher? Then this one is for you! Perfect for beginners\, these gentle classes combine Yoga & Meditation to stretch\, strengthen and relax create stillness in the mind and restore life force and balance. No need to bring anything\, the studio has everything you need. Beginners 1 will start you on your journey\, Beginners 2 invites you to deepen the practice (open to those with some yoga experience).\nContact Mieke to secure your place and take your first steps towards a healthier & more relaxed state of being! \n$80 for four weeks \nPayments can be made directly to: Zen Space: BSB: 633000 – A/C: 156229262 or check he website for Credit Card & Paypal options. \nOr if you’re ready now\, call Mieke to jump into the current course – that’s easy! \nContact Kate on: 0418 617 45l\nzenspacesamford@gmail.com \nBook for course
URL:https://zen-space.com.au/event/beginners-1-2-yoga-course-with-mieke/
LOCATION:St Francis Xavier Catholic Church\, Dayboro\, AU
CATEGORIES:Beginners,Yoga
END:VEVENT
BEGIN:VEVENT
DTSTART;TZID=Australia/Brisbane:20170523T180000
DTEND;TZID=Australia/Brisbane:20170627T191500
DTSTAMP:20260424T071416
CREATED:20170314T044712Z
LAST-MODIFIED:20170314T044712Z
UID:901-1495562400-1498590900@zen-space.com.au
SUMMARY:Beginners 1 & 2: Yoga Course with Kate - Tuesday 6.00pm
DESCRIPTION:Tuesdays\, 6 – 7:15 pm \nwith Kate \nMay 23rd – June 27th \nBeen meaning to do some yoga for a while? Or you’ve had a break and you’re ready for a refresher? Then this one is for you! Perfect for beginners\, these gentle classes combine Yoga & Meditation to stretch\, strengthen and relax create stillness in the mind and restore life force and balance. No need to bring anything\, the studio has everything you need. Beginners 1 will start you on your journey\, Beginners 2 invites you to deepen the practice (open to those with some yoga experience). \nBook for course \nContact Kate to secure your place and take your first steps towards a healthier & more relaxed state of being! \nOr if you’re ready now\, call Kate to jump into the current course – that’s easy! \ncontact Kate on: 0418 617 451 \nzenspacesamford@gmail.com
URL:https://zen-space.com.au/event/beginners-2-yoga-course-with-kate-sasha-tuesday-6-00pm/
LOCATION:Zen Space\, 225 Mt Glorious Rd\, Samford\, QLD\, 4520\, Australia
CATEGORIES:Beginners,Yoga
ORGANIZER;CN="Kate Barzdo":MAILTO:zenthaipinky@gmail.com
END:VEVENT
BEGIN:VEVENT
DTSTART;TZID=Australia/Brisbane:20170420T180000
DTEND;TZID=Australia/Brisbane:20170420T193000
DTSTAMP:20260424T071416
CREATED:20170314T044330Z
LAST-MODIFIED:20170314T044330Z
UID:899-1492711200-1492716600@zen-space.com.au
SUMMARY:Beginners 1: Yoga Course with Shivjyoti - Thursday 7.30pm
DESCRIPTION:Thursday\, 7.30 – 8.45pm \nwith Shivjyoti \nCommencing April 20th \nBeen meaning to do some yoga for a while? Or you’ve had a break and you’re ready for a refresher? Then this one is for you! Perfect for beginners\, these gentle classes combine Yoga & Meditation to stretch\, strengthen and relax create stillness in the mind and restore life force and balance. No need to bring anything\, the studio has everything you need. Beginners 1 will start you on your journey\, Beginners 2 invites you to deepen the practice (open to those with some yoga experience). \n\n\n\n\n\nContact Kate to secure your place and take your first steps towards a healthier & more relaxed state of being! \nContact Kate on: 0418 617 451\, zenspacesamford@gmail.com
URL:https://zen-space.com.au/event/beginners-1-yoga-course-with-shivjyoti-thursday-7-30pm/
LOCATION:Zen Space\, 225 Mt Glorious Rd\, Samford\, QLD\, 4520\, Australia
CATEGORIES:Beginners,Yoga
ORGANIZER;CN="Kate Barzdo":MAILTO:zenthaipinky@gmail.com
END:VEVENT
BEGIN:VEVENT
DTSTART;TZID=Australia/Brisbane:20170221T180000
DTEND;TZID=Australia/Brisbane:20170221T191500
DTSTAMP:20260424T071416
CREATED:20170131T233900Z
LAST-MODIFIED:20170131T233900Z
UID:762-1487700000-1487704500@zen-space.com.au
SUMMARY:Beginners' Yoga Course with Kate and Sasha
DESCRIPTION:Begins 21 February 2017 and runs for 6 weeks. \nBeen meaning to do some yoga for a while? Or you’ve had a break and you’re ready for a refresher? Then this one is for you! Perfect for beginners\, these gentle classes combine Yoga to stretch\, strengthen and relax and Chi Gung to create stillness in the mind and restore life force and balance through moving meditation. \nKate brings 20+ years experience of teaching and an enthusiasm for sharing body movement therapies. No need to bring anything\, the studio has everything you need. \nContact Kate to secure your place and take your first steps towards a healthier & more relaxed 2017 for yourself! \nFor more information\, or bookings\, contact Kate on  0418 617 451 or zenspacesamford@gmail.com or click the button below to pay with PayPal\, credit card or bank transfer. \n$120 for 6 week course. \n\n 
URL:https://zen-space.com.au/event/beginners-yoga-with-kate-and-sasha/
LOCATION:Zen Space\, 225 Mt Glorious Rd\, Samford\, QLD\, 4520\, Australia
CATEGORIES:Beginners,Yoga
END:VEVENT
BEGIN:VEVENT
DTSTART;TZID=Australia/Brisbane:20170110T180000
DTEND;TZID=Australia/Brisbane:20170110T191500
DTSTAMP:20260424T071416
CREATED:20161231T064718Z
LAST-MODIFIED:20161231T064718Z
UID:428-1484071200-1484075700@zen-space.com.au
SUMMARY:Beginners Yoga Course with Kate
DESCRIPTION:Been meaning to do some yoga for a while? Or you’ve had a break and you’re ready for a refresher? Then this one is for you! Perfect for beginners\, these gentle classes combine Yoga to stretch\, strengthen and relax and Chi Gung to create stillness in the mind and restore life force and balance through moving meditation. \nKate brings 20+ years experience of teaching and an enthusiasm for sharing body movement therapies. No need to bring anything\, the studio has everything you need. \nContact Kate to secure your place and take your first steps towards a healthier & more relaxed 2017 for yourself! \n$120 for 6 week course. \n\nOr payments can be made directly to:\nZen Space\nBSB: 633000\nA/C: 156229262
URL:https://zen-space.com.au/event/beginners-yoga-course-with-kate/
LOCATION:Zen Space\, 225 Mt Glorious Rd\, Samford\, QLD\, 4520\, Australia
CATEGORIES:Beginners,Yoga
END:VEVENT
END:VCALENDAR